BEGIN:VCALENDAR
VERSION:2.0
PRODID:-//Skåre Fiskeläge - ECPv6.15.20//NONSGML v1.0//EN
CALSCALE:GREGORIAN
METHOD:PUBLISH
X-ORIGINAL-URL:https://skarefiskelage.se
X-WR-CALDESC:Händelser för Skåre Fiskeläge
REFRESH-INTERVAL;VALUE=DURATION:PT1H
X-Robots-Tag:noindex
X-PUBLISHED-TTL:PT1H
BEGIN:VTIMEZONE
TZID:Europe/Stockholm
BEGIN:DAYLIGHT
TZOFFSETFROM:+0100
TZOFFSETTO:+0200
TZNAME:CEST
DTSTART:20230326T010000
END:DAYLIGHT
BEGIN:STANDARD
TZOFFSETFROM:+0200
TZOFFSETTO:+0100
TZNAME:CET
DTSTART:20231029T010000
END:STANDARD
BEGIN:DAYLIGHT
TZOFFSETFROM:+0100
TZOFFSETTO:+0200
TZNAME:CEST
DTSTART:20240331T010000
END:DAYLIGHT
BEGIN:STANDARD
TZOFFSETFROM:+0200
TZOFFSETTO:+0100
TZNAME:CET
DTSTART:20241027T010000
END:STANDARD
BEGIN:DAYLIGHT
TZOFFSETFROM:+0100
TZOFFSETTO:+0200
TZNAME:CEST
DTSTART:20250330T010000
END:DAYLIGHT
BEGIN:STANDARD
TZOFFSETFROM:+0200
TZOFFSETTO:+0100
TZNAME:CET
DTSTART:20251026T010000
END:STANDARD
END:VTIMEZONE
BEGIN:VEVENT
DTSTART;TZID=Europe/Stockholm:20240616T100000
DTEND;TZID=Europe/Stockholm:20240616T150000
DTSTAMP:20260420T144414
CREATED:20240522T185638Z
LAST-MODIFIED:20240522T185638Z
UID:6352-1718532000-1718550000@skarefiskelage.se
SUMMARY:Vattenkul
DESCRIPTION:
URL:https://skarefiskelage.se/event/vattenkul-2/
END:VEVENT
BEGIN:VEVENT
DTSTART;TZID=Europe/Stockholm:20240614T100000
DTEND;TZID=Europe/Stockholm:20240614T100000
DTSTAMP:20260420T144414
CREATED:20240609T182142Z
LAST-MODIFIED:20240609T182504Z
UID:6358-1718359200-1718359200@skarefiskelage.se
SUMMARY:Byavandring med Pro Månstorp
DESCRIPTION:
URL:https://skarefiskelage.se/event/byavandring-med-pro-manstorp/
ORGANIZER;CN="Sk%C3%A5re Byalag":MAILTO:skarebyalag@skarefiskelage.se
END:VEVENT
BEGIN:VEVENT
DTSTART;TZID=Europe/Stockholm:20240602T100000
DTEND;TZID=Europe/Stockholm:20240602T150000
DTSTAMP:20260420T144414
CREATED:20240522T185533Z
LAST-MODIFIED:20240522T185533Z
UID:6350-1717322400-1717340400@skarefiskelage.se
SUMMARY:Vattenkul
DESCRIPTION:
URL:https://skarefiskelage.se/event/vattenkul/
END:VEVENT
BEGIN:VEVENT
DTSTART;TZID=Europe/Stockholm:20240409T183000
DTEND;TZID=Europe/Stockholm:20240409T200000
DTSTAMP:20260420T144414
CREATED:20240321T194742Z
LAST-MODIFIED:20240321T194742Z
UID:6305-1712687400-1712692800@skarefiskelage.se
SUMMARY:Skåre Byalagsträff - Falsterbokanalen
DESCRIPTION:
URL:https://skarefiskelage.se/event/skare-byalagstraff-falsterbokanalen/
ORGANIZER;CN="Sk%C3%A5re Byalag":MAILTO:skarebyalag@skarefiskelage.se
END:VEVENT
BEGIN:VEVENT
DTSTART;TZID=Europe/Stockholm:20240314T180000
DTEND;TZID=Europe/Stockholm:20240314T200000
DTSTAMP:20260420T144414
CREATED:20240210T201056Z
LAST-MODIFIED:20240210T202939Z
UID:6257-1710439200-1710446400@skarefiskelage.se
SUMMARY:Därför blir unga kriminella - svaret är varken fattigdom eller invandring
DESCRIPTION:Plats:Maglarps församlingshem \nEtt samarrangemang mellan Skåre Byalag och Hammarlövs Församling
URL:https://skarefiskelage.se/event/darfor-blir-unga-kriminella-svaret-ar-varken-fattigdom-eller-invandring/
LOCATION:Maglarps församlingshem\, Maglarps Församlingshem\, Trelleborg\, Sverige
ORGANIZER;CN="Sk%C3%A5re Byalag":MAILTO:skarebyalag@skarefiskelage.se
END:VEVENT
END:VCALENDAR